BEGIN:VCALENDAR
VERSION:2.0
PRODID:icalendar-ruby
CALSCALE:GREGORIAN
BEGIN:VEVENT
DTSTAMP:20260421T083601Z
UID:d19c00d4-14d2-4adc-8f2d-9da725e26594
DTSTART;VALUE=DATE:20191211
DESCRIPTION:Property ID# 468513\, Locatoin: 778 Manukau Road Royal Oak (unl
 ess sold prior)\, Time: 6:00PM
SUMMARY:Auction for 
END:VEVENT
END:VCALENDAR
